BEGIN:VCALENDAR
VERSION:2.0
PRODID:-//St. Hubertus Schützenbruderschaft - ECPv6.15.20//NONSGML v1.0//EN
CALSCALE:GREGORIAN
METHOD:PUBLISH
X-WR-CALNAME:St. Hubertus Schützenbruderschaft
X-ORIGINAL-URL:https://www.schuetzen-suesterseel.de
X-WR-CALDESC:Veranstaltungen für St. Hubertus Schützenbruderschaft
REFRESH-INTERVAL;VALUE=DURATION:PT1H
X-Robots-Tag:noindex
X-PUBLISHED-TTL:PT1H
BEGIN:VTIMEZONE
TZID:Europe/Paris
BEGIN:DAYLIGHT
TZOFFSETFROM:+0100
TZOFFSETTO:+0200
TZNAME:CEST
DTSTART:20230326T010000
END:DAYLIGHT
BEGIN:STANDARD
TZOFFSETFROM:+0200
TZOFFSETTO:+0100
TZNAME:CET
DTSTART:20231029T010000
END:STANDARD
BEGIN:DAYLIGHT
TZOFFSETFROM:+0100
TZOFFSETTO:+0200
TZNAME:CEST
DTSTART:20240331T010000
END:DAYLIGHT
BEGIN:STANDARD
TZOFFSETFROM:+0200
TZOFFSETTO:+0100
TZNAME:CET
DTSTART:20241027T010000
END:STANDARD
BEGIN:DAYLIGHT
TZOFFSETFROM:+0100
TZOFFSETTO:+0200
TZNAME:CEST
DTSTART:20250330T010000
END:DAYLIGHT
BEGIN:STANDARD
TZOFFSETFROM:+0200
TZOFFSETTO:+0100
TZNAME:CET
DTSTART:20251026T010000
END:STANDARD
END:VTIMEZONE
BEGIN:VEVENT
DTSTART;TZID=Europe/Paris:20241109T173000
DTEND;TZID=Europe/Paris:20241109T220000
DTSTAMP:20260419T154439
CREATED:20241027T150150Z
LAST-MODIFIED:20241027T150447Z
UID:1774-1731173400-1731189600@www.schuetzen-suesterseel.de
SUMMARY:Patronatstag 2024
DESCRIPTION:Am Samstag\, 09. November 2024 feiert die Schützenbruderschaft ihren Patronatstag. \n17:15 Uhr Treffen der aktiven und inaktiven Schützen\, aktive Schützen in Uniform an der Kirche zum gemeinsamen Kirchgang. \n17:30 Uhr Hl. Messe für die lebenden und verstorbenen Mitglieder der Bruderschaft. \nNach der hl. Messe maschieren wir geschlossen zum Schützenhaus\, wo wir den\nPatronatstag mit der Ehrung von langjährigen Mitgliedern und einem gemütlichen\nBeisammensein begehen. \nDer Vorstand bittet um eine rege Teilnahme.
URL:https://www.schuetzen-suesterseel.de/termine/patronatstag-2024/
END:VEVENT
BEGIN:VEVENT
DTSTART;TZID=Europe/Paris:20241116T173000
DTEND;TZID=Europe/Paris:20241116T193000
DTSTAMP:20260419T154439
CREATED:20241027T150957Z
LAST-MODIFIED:20241027T151156Z
UID:1778-1731778200-1731785400@www.schuetzen-suesterseel.de
SUMMARY:Volkstrauertag 2024
DESCRIPTION:Am Samstag \,den 16. November 2024\, begehen wir den Volkstrauertag. \nWir treffen uns um 17:15 Uhr\, in Uniform\, an der Kirche zum gemeinsamen Kirchgang. \nDie Messe findet um 17:30 Uhr statt. Anschließend ziehen wir zum Gedenken der Gefallenen\, der Vermissten und der Zivilopfer beider Weltkriege zum Ehrendenkmal. \nWir möchten auch aller Ehrenamtler und Menschen\, die durch ihren Beruf oder im Hilfseinsatz ihr Leben lassen mußten gedenken.
URL:https://www.schuetzen-suesterseel.de/termine/1778/
END:VEVENT
END:VCALENDAR