BEGIN:VCALENDAR
VERSION:2.0
PRODID:-//St. Hubertus Schützenbruderschaft - ECPv6.15.20//NONSGML v1.0//EN
CALSCALE:GREGORIAN
METHOD:PUBLISH
X-ORIGINAL-URL:https://www.schuetzen-suesterseel.de
X-WR-CALDESC:Veranstaltungen für St. Hubertus Schützenbruderschaft
REFRESH-INTERVAL;VALUE=DURATION:PT1H
X-Robots-Tag:noindex
X-PUBLISHED-TTL:PT1H
BEGIN:VTIMEZONE
TZID:Europe/Paris
BEGIN:DAYLIGHT
TZOFFSETFROM:+0100
TZOFFSETTO:+0200
TZNAME:CEST
DTSTART:20230326T010000
END:DAYLIGHT
BEGIN:STANDARD
TZOFFSETFROM:+0200
TZOFFSETTO:+0100
TZNAME:CET
DTSTART:20231029T010000
END:STANDARD
BEGIN:DAYLIGHT
TZOFFSETFROM:+0100
TZOFFSETTO:+0200
TZNAME:CEST
DTSTART:20240331T010000
END:DAYLIGHT
BEGIN:STANDARD
TZOFFSETFROM:+0200
TZOFFSETTO:+0100
TZNAME:CET
DTSTART:20241027T010000
END:STANDARD
BEGIN:DAYLIGHT
TZOFFSETFROM:+0100
TZOFFSETTO:+0200
TZNAME:CEST
DTSTART:20250330T010000
END:DAYLIGHT
BEGIN:STANDARD
TZOFFSETFROM:+0200
TZOFFSETTO:+0100
TZNAME:CET
DTSTART:20251026T010000
END:STANDARD
END:VTIMEZONE
BEGIN:VEVENT
DTSTART;VALUE=DATE:20240524
DTEND;VALUE=DATE:20240527
DTSTAMP:20260420T022042
CREATED:20240503T163301Z
LAST-MODIFIED:20240503T163301Z
UID:858-1716508800-1716767999@www.schuetzen-suesterseel.de
SUMMARY:Dekanatsschützenfest 2024
DESCRIPTION:  \nDas Highlight des Jahres 2024 ist das Schützenfest vom 24.05 – 26.05.2024 in Süsterseel wo Nico Dahlmanns und Gina Goertz als Königspaar amtieren werden. Auch die Vorbereitungen für dieses große Fest sind bereits in vollem Gange.
URL:https://www.schuetzen-suesterseel.de/termine/dekanatsschuetzenfest2024/
CATEGORIES:Brauchtum
END:VEVENT
BEGIN:VEVENT
DTSTART;TZID=Europe/Paris:20240524T190000
DTEND;TZID=Europe/Paris:20240524T235900
DTSTAMP:20260420T022042
CREATED:20240503T165106Z
LAST-MODIFIED:20240503T165254Z
UID:867-1716577200-1716595140@www.schuetzen-suesterseel.de
SUMMARY:Party Night mit DJ Chris
DESCRIPTION:
URL:https://www.schuetzen-suesterseel.de/termine/party-night-mit-dj-chris/
LOCATION:Festzelt\, Dorfplatz\, Selfkant Süsterseel\, 52538\, Deutschland
END:VEVENT
BEGIN:VEVENT
DTSTART;TZID=Europe/Paris:20240525T170000
DTEND;TZID=Europe/Paris:20240525T173000
DTSTAMP:20260420T022042
CREATED:20240521T101856Z
LAST-MODIFIED:20240521T101856Z
UID:1633-1716656400-1716658200@www.schuetzen-suesterseel.de
SUMMARY:Abholen der Majestäten am Königshaus
DESCRIPTION:
URL:https://www.schuetzen-suesterseel.de/termine/abholen-der-majestaeten-am-koenigshaus/
END:VEVENT
BEGIN:VEVENT
DTSTART;TZID=Europe/Paris:20240525T173000
DTEND;TZID=Europe/Paris:20240525T183000
DTSTAMP:20260420T022042
CREATED:20240521T101936Z
LAST-MODIFIED:20240521T101936Z
UID:1635-1716658200-1716661800@www.schuetzen-suesterseel.de
SUMMARY:Helige Messe
DESCRIPTION:
URL:https://www.schuetzen-suesterseel.de/termine/helige-messe/
END:VEVENT
BEGIN:VEVENT
DTSTART;TZID=Europe/Paris:20240525T190000
DTEND;TZID=Europe/Paris:20240525T193000
DTSTAMP:20260420T022042
CREATED:20240521T102030Z
LAST-MODIFIED:20240521T102030Z
UID:1637-1716663600-1716665400@www.schuetzen-suesterseel.de
SUMMARY:Abholen der Ehrengäste am Hubertusheim mit Aufzug zum Festzelt
DESCRIPTION:
URL:https://www.schuetzen-suesterseel.de/termine/abholen-der-ehrengaeste-am-hubertusheim-mit-aufzug-zum-festzelt/
END:VEVENT
BEGIN:VEVENT
DTSTART;TZID=Europe/Paris:20240525T193000
DTEND;TZID=Europe/Paris:20240525T233000
DTSTAMP:20260420T022042
CREATED:20240503T180227Z
LAST-MODIFIED:20240503T180227Z
UID:902-1716665400-1716679800@www.schuetzen-suesterseel.de
SUMMARY:Heimatabend 2024
DESCRIPTION:
URL:https://www.schuetzen-suesterseel.de/termine/heimatabend-2024/
LOCATION:Festzelt\, Dorfplatz\, Selfkant Süsterseel\, 52538\, Deutschland
END:VEVENT
BEGIN:VEVENT
DTSTART;TZID=Europe/Paris:20240525T230000
DTEND;TZID=Europe/Paris:20240525T230000
DTSTAMP:20260420T022042
CREATED:20240521T102117Z
LAST-MODIFIED:20240521T102117Z
UID:1639-1716678000-1716678000@www.schuetzen-suesterseel.de
SUMMARY:Großer Zapfenstreich
DESCRIPTION:Anschließend gemütlicher Ausklang
URL:https://www.schuetzen-suesterseel.de/termine/grosser-zapfenstreich/
END:VEVENT
BEGIN:VEVENT
DTSTART;TZID=Europe/Paris:20240526T130000
DTEND;TZID=Europe/Paris:20240526T140000
DTSTAMP:20260420T022042
CREATED:20240503T180413Z
LAST-MODIFIED:20240503T180443Z
UID:906-1716728400-1716732000@www.schuetzen-suesterseel.de
SUMMARY:Empfang der auswärtigen Bruderschaften 2024
DESCRIPTION:
URL:https://www.schuetzen-suesterseel.de/termine/empfang-der-auswaertigen-bruderschaften-2024/
LOCATION:Festzelt\, Dorfplatz\, Selfkant Süsterseel\, 52538\, Deutschland
END:VEVENT
BEGIN:VEVENT
DTSTART;TZID=Europe/Paris:20240526T130000
DTEND;TZID=Europe/Paris:20240526T180000
DTSTAMP:20260420T022042
CREATED:20240521T102530Z
LAST-MODIFIED:20240521T102530Z
UID:1649-1716728400-1716746400@www.schuetzen-suesterseel.de
SUMMARY:Cafeteria im Schützenhaus
DESCRIPTION:Kaffee und Kuchen im Schützenhaus
URL:https://www.schuetzen-suesterseel.de/termine/cafeteria-im-schuetzenhaus/
END:VEVENT
BEGIN:VEVENT
DTSTART;TZID=Europe/Paris:20240526T141500
DTEND;TZID=Europe/Paris:20240526T144500
DTSTAMP:20260420T022042
CREATED:20240521T102158Z
LAST-MODIFIED:20240521T102158Z
UID:1641-1716732900-1716734700@www.schuetzen-suesterseel.de
SUMMARY:Abholung des Majestäten am Könighaus
DESCRIPTION:
URL:https://www.schuetzen-suesterseel.de/termine/abholung-des-majestaeten-am-koenighaus/
END:VEVENT
BEGIN:VEVENT
DTSTART;TZID=Europe/Paris:20240526T144500
DTEND;TZID=Europe/Paris:20240526T150000
DTSTAMP:20260420T022042
CREATED:20240521T102225Z
LAST-MODIFIED:20240521T102225Z
UID:1643-1716734700-1716735600@www.schuetzen-suesterseel.de
SUMMARY:Feldandacht
DESCRIPTION:
URL:https://www.schuetzen-suesterseel.de/termine/feldandacht/
END:VEVENT
BEGIN:VEVENT
DTSTART;TZID=Europe/Paris:20240526T150000
DTEND;TZID=Europe/Paris:20240526T170000
DTSTAMP:20260420T022042
CREATED:20240503T180306Z
LAST-MODIFIED:20240503T180306Z
UID:904-1716735600-1716742800@www.schuetzen-suesterseel.de
SUMMARY:Festzug 2024
DESCRIPTION:
URL:https://www.schuetzen-suesterseel.de/termine/festzug-2024/
END:VEVENT
BEGIN:VEVENT
DTSTART;TZID=Europe/Paris:20240526T150000
DTEND;TZID=Europe/Paris:20240526T193000
DTSTAMP:20260420T022042
CREATED:20240521T102332Z
LAST-MODIFIED:20240521T102332Z
UID:1645-1716735600-1716751800@www.schuetzen-suesterseel.de
SUMMARY:Großer Festzug
DESCRIPTION:durch den Ort mit Vorbeimarsch; \nanschließend Fahnenschwenken und Preisverleihung im Festzelt
URL:https://www.schuetzen-suesterseel.de/termine/grosser-festzug/
END:VEVENT
BEGIN:VEVENT
DTSTART;TZID=Europe/Paris:20240526T193000
DTEND;TZID=Europe/Paris:20240526T233000
DTSTAMP:20260420T022042
CREATED:20240521T102432Z
LAST-MODIFIED:20240521T102432Z
UID:1647-1716751800-1716766200@www.schuetzen-suesterseel.de
SUMMARY:Ausklang mit DJ Henning
DESCRIPTION:musikalische Begleitung durch den Abend mit DJ Henning
URL:https://www.schuetzen-suesterseel.de/termine/ausklang-mit-dj-henning/
END:VEVENT
END:VCALENDAR