BEGIN:VCALENDAR
VERSION:2.0
PRODID:-//St. Hubertus Schützenbruderschaft - ECPv6.15.20//NONSGML v1.0//EN
CALSCALE:GREGORIAN
METHOD:PUBLISH
X-ORIGINAL-URL:https://www.schuetzen-suesterseel.de
X-WR-CALDESC:Veranstaltungen für St. Hubertus Schützenbruderschaft
REFRESH-INTERVAL;VALUE=DURATION:PT1H
X-Robots-Tag:noindex
X-PUBLISHED-TTL:PT1H
BEGIN:VTIMEZONE
TZID:Europe/Paris
BEGIN:DAYLIGHT
TZOFFSETFROM:+0100
TZOFFSETTO:+0200
TZNAME:CEST
DTSTART:20230326T010000
END:DAYLIGHT
BEGIN:STANDARD
TZOFFSETFROM:+0200
TZOFFSETTO:+0100
TZNAME:CET
DTSTART:20231029T010000
END:STANDARD
BEGIN:DAYLIGHT
TZOFFSETFROM:+0100
TZOFFSETTO:+0200
TZNAME:CEST
DTSTART:20240331T010000
END:DAYLIGHT
BEGIN:STANDARD
TZOFFSETFROM:+0200
TZOFFSETTO:+0100
TZNAME:CET
DTSTART:20241027T010000
END:STANDARD
BEGIN:DAYLIGHT
TZOFFSETFROM:+0100
TZOFFSETTO:+0200
TZNAME:CEST
DTSTART:20250330T010000
END:DAYLIGHT
BEGIN:STANDARD
TZOFFSETFROM:+0200
TZOFFSETTO:+0100
TZNAME:CET
DTSTART:20251026T010000
END:STANDARD
END:VTIMEZONE
BEGIN:VEVENT
DTSTART;TZID=Europe/Paris:20240609T100000
DTEND;TZID=Europe/Paris:20240609T150000
DTSTAMP:20260420T020253
CREATED:20240523T054213Z
LAST-MODIFIED:20240523T054213Z
UID:1669-1717927200-1717945200@www.schuetzen-suesterseel.de
SUMMARY:Dekanatskönigsschießen 2024
DESCRIPTION:Sonntag\, den 09. Juni 2024 auf dem Schießstand der\nSchützenbruderschaft St.Petri und Pauli Waldenrath\nStartzeiten: TRAINING: 10.00 - 12.00 Uhr\nWERTUNGSSCHIEßEN: ab 14.00 Uhr\nMELDESCHLUSS: 15.00 Uhr\nStartberechtigt ist derjenige\, der amtierender König\, bzw. Silberträger \, seiner vollständig in der EVEWA-Mitgliederverwaltung erfassten Bruderschaft ist. Weiterhin ist Voraussetzung\, dass er die Bedingungen nach der Satzung der\nHistorischen Deutschen Schützenbruderschaften erfüllt. Für die Gesamtleitung ist der Dekanatsbundesmeister\ngemeinsam mit dem Dekanatsschießmeister verantwortlich.
URL:https://www.schuetzen-suesterseel.de/termine/dekanatskoenigsschiessen-2024/
END:VEVENT
END:VCALENDAR